BEGIN:VCALENDAR
VERSION:2.0
PRODID:-//F.A.N. - ECPv6.15.20//NONSGML v1.0//EN
CALSCALE:GREGORIAN
METHOD:PUBLISH
X-ORIGINAL-URL:https://freundeskreis-fuer-archaeologie.de
X-WR-CALDESC:Veranstaltungen für F.A.N.
REFRESH-INTERVAL;VALUE=DURATION:PT1H
X-Robots-Tag:noindex
X-PUBLISHED-TTL:PT1H
BEGIN:VTIMEZONE
TZID:Europe/Paris
BEGIN:DAYLIGHT
TZOFFSETFROM:+0100
TZOFFSETTO:+0200
TZNAME:CEST
DTSTART:20250330T010000
END:DAYLIGHT
BEGIN:STANDARD
TZOFFSETFROM:+0200
TZOFFSETTO:+0100
TZNAME:CET
DTSTART:20251026T010000
END:STANDARD
BEGIN:DAYLIGHT
TZOFFSETFROM:+0100
TZOFFSETTO:+0200
TZNAME:CEST
DTSTART:20260329T010000
END:DAYLIGHT
BEGIN:STANDARD
TZOFFSETFROM:+0200
TZOFFSETTO:+0100
TZNAME:CET
DTSTART:20261025T010000
END:STANDARD
BEGIN:DAYLIGHT
TZOFFSETFROM:+0100
TZOFFSETTO:+0200
TZNAME:CEST
DTSTART:20270328T010000
END:DAYLIGHT
BEGIN:STANDARD
TZOFFSETFROM:+0200
TZOFFSETTO:+0100
TZNAME:CET
DTSTART:20271031T010000
END:STANDARD
END:VTIMEZONE
BEGIN:VEVENT
DTSTART;VALUE=DATE:20260307
DTEND;VALUE=DATE:20260308
DTSTAMP:20260421T161216
CREATED:20250518T141214Z
LAST-MODIFIED:20260210T084927Z
UID:2109-1772841600-1772927999@freundeskreis-fuer-archaeologie.de
SUMMARY:FAN-Jahrestagung in Eystrup
DESCRIPTION:Die Einladung finden Sie hier.
URL:https://freundeskreis-fuer-archaeologie.de/event/fan-jahrestagung-in-eystrup/
LOCATION:Güterschuppen Eystrup\, Am Bahnhof 2\, Eystrup\, Niedersachsen\, 31622
END:VEVENT
END:VCALENDAR