BEGIN:VCALENDAR
VERSION:2.0
PRODID:-//F.A.N. - ECPv6.15.20//NONSGML v1.0//EN
CALSCALE:GREGORIAN
METHOD:PUBLISH
X-ORIGINAL-URL:https://freundeskreis-fuer-archaeologie.de
X-WR-CALDESC:Veranstaltungen für F.A.N.
REFRESH-INTERVAL;VALUE=DURATION:PT1H
X-Robots-Tag:noindex
X-PUBLISHED-TTL:PT1H
BEGIN:VTIMEZONE
TZID:Europe/Paris
BEGIN:DAYLIGHT
TZOFFSETFROM:+0100
TZOFFSETTO:+0200
TZNAME:CEST
DTSTART:20200329T010000
END:DAYLIGHT
BEGIN:STANDARD
TZOFFSETFROM:+0200
TZOFFSETTO:+0100
TZNAME:CET
DTSTART:20201025T010000
END:STANDARD
BEGIN:DAYLIGHT
TZOFFSETFROM:+0100
TZOFFSETTO:+0200
TZNAME:CEST
DTSTART:20210328T010000
END:DAYLIGHT
BEGIN:STANDARD
TZOFFSETFROM:+0200
TZOFFSETTO:+0100
TZNAME:CET
DTSTART:20211031T010000
END:STANDARD
BEGIN:DAYLIGHT
TZOFFSETFROM:+0100
TZOFFSETTO:+0200
TZNAME:CEST
DTSTART:20220327T010000
END:DAYLIGHT
BEGIN:STANDARD
TZOFFSETFROM:+0200
TZOFFSETTO:+0100
TZNAME:CET
DTSTART:20221030T010000
END:STANDARD
END:VTIMEZONE
BEGIN:VEVENT
DTSTART;TZID=Europe/Paris:20210703T100000
DTEND;TZID=Europe/Paris:20210703T170000
DTSTAMP:20260421T103912
CREATED:20210623T112333Z
LAST-MODIFIED:20210623T112333Z
UID:949-1625306400-1625331600@freundeskreis-fuer-archaeologie.de
SUMMARY:Exkursion Barenburg
DESCRIPTION:Treffpunkt ist um 10 Uhr der Parkplatz des Klosters Wülfinghausen südlich von Springe. \nVon dort geht es mit Auto und mit Sondergenehmigung steil bis auf 280m Meter Höhe hinauf in den Wald zur Barenburg. Der Grabungstechniker Harald Nagel zeigt uns die mittellatènezeitliche Fluchtburg und berichtet von einem dramatischen Ereignis vor etwa 2300 Jahren: Die Bewohner flohen Hals über Kopf den Hang hinunter und verloren dabei Geräte\, Schmuck und Waffen.Um 12 Uhr fahren wir nach Bad Münder zum Mittagessen in das Restaurant „Zum Waldschlösschen“ und blicken anschließend vom Aussichtspunkt bei Hachmühlen auf das legendäre Schlachtfeld zwischen Sachsen und Franken im Jahre 782. Weiter geht die Fahrt ins Wesertal. Ab 15 Uhr erhalten wir eine einstündige Führung durch das sommerliche Stift Fischbeck und erholen uns zum Abschluss im Garten des „Café am Stift“ bei vorzüglichem Kaffee\, Kuchen und Eis. \nWir bitten um Ihre Anmeldung bis zum 27. Juni unter Heinz-Dieter.Freese@gmx.\nDie Teilnehmerzahl sollte 20 Personen nicht überschreiten.
URL:https://freundeskreis-fuer-archaeologie.de/event/exkursion-barenburg/
END:VEVENT
BEGIN:VEVENT
DTSTART;TZID=Europe/Paris:20210705T183000
DTEND;TZID=Europe/Paris:20210705T200000
DTSTAMP:20260421T103912
CREATED:20210331T181429Z
LAST-MODIFIED:20210331T181446Z
UID:882-1625509800-1625515200@freundeskreis-fuer-archaeologie.de
SUMMARY:Vortrag: Stefan Lütgert\, Erdöl in Niedersachsen
DESCRIPTION:NLD-Montagsvortrag. www.denkmalatlas.niedersachsen.de – News oder direkt über den youtube Kanal des Denkmalatlas https://www.youtube.com/channel/UCk1AYVxawKSUQpp_jMJMN8Q
URL:https://freundeskreis-fuer-archaeologie.de/event/vportrag-stefan-luetgert-erdoel-in-niedersachsen/
LOCATION:youtube
END:VEVENT
BEGIN:VEVENT
DTSTART;VALUE=DATE:20210724
DTEND;VALUE=DATE:20210725
DTSTAMP:20260421T103912
CREATED:20210623T112243Z
LAST-MODIFIED:20210623T112243Z
UID:951-1627084800-1627171199@freundeskreis-fuer-archaeologie.de
SUMMARY:Exkursion Landkreis Celle
DESCRIPTION:FAN-Mitglied Hendrik Altmann führt uns zu „lost places“ im Landkreis Celle. Am Vormittag streifen wir zu Fuß durch die dichten Wälder westlich und nördlich von Celle. Unter anderem suchen wir das abgebildete Objekt.Zwischendurch suchen wir uns ein schattiges Plätzchen für ein Mittagessen aus unserem Rucksack bevor es nachmittags weiter geht zu zwei ehemaligen Burgen. Oder etwa nicht? Rätselhafte Wälle und Gräben warten auf ihre Deutung. Anfahrt und Verpflegung organisiert jede/r selbst. Eine Maskenpflicht\, Abstandsregelung\, Luca-App etc. entfällt bei Unternehmungen im Freien. \nWir bitten um Ihre Anmeldung bis zum 15. Juli unter Heinz-Dieter.Freese@gmx.Sie erhalten eine Bestätigung und weitere Details.
URL:https://freundeskreis-fuer-archaeologie.de/event/exkursion-landkreis-celle/
END:VEVENT
END:VCALENDAR