BEGIN:VCALENDAR
VERSION:2.0
PRODID:-//F.A.N. - ECPv6.15.20//NONSGML v1.0//EN
CALSCALE:GREGORIAN
METHOD:PUBLISH
X-ORIGINAL-URL:https://freundeskreis-fuer-archaeologie.de
X-WR-CALDESC:Veranstaltungen für F.A.N.
REFRESH-INTERVAL;VALUE=DURATION:PT1H
X-Robots-Tag:noindex
X-PUBLISHED-TTL:PT1H
BEGIN:VTIMEZONE
TZID:Europe/Paris
BEGIN:DAYLIGHT
TZOFFSETFROM:+0100
TZOFFSETTO:+0200
TZNAME:CEST
DTSTART:20240331T010000
END:DAYLIGHT
BEGIN:STANDARD
TZOFFSETFROM:+0200
TZOFFSETTO:+0100
TZNAME:CET
DTSTART:20241027T010000
END:STANDARD
BEGIN:DAYLIGHT
TZOFFSETFROM:+0100
TZOFFSETTO:+0200
TZNAME:CEST
DTSTART:20250330T010000
END:DAYLIGHT
BEGIN:STANDARD
TZOFFSETFROM:+0200
TZOFFSETTO:+0100
TZNAME:CET
DTSTART:20251026T010000
END:STANDARD
BEGIN:DAYLIGHT
TZOFFSETFROM:+0100
TZOFFSETTO:+0200
TZNAME:CEST
DTSTART:20260329T010000
END:DAYLIGHT
BEGIN:STANDARD
TZOFFSETFROM:+0200
TZOFFSETTO:+0100
TZNAME:CET
DTSTART:20261025T010000
END:STANDARD
END:VTIMEZONE
BEGIN:VEVENT
DTSTART;TZID=Europe/Paris:20251125T130000
DTEND;TZID=Europe/Paris:20251125T173000
DTSTAMP:20260421T235130
CREATED:20251119T113019Z
LAST-MODIFIED:20251119T113019Z
UID:2330-1764075600-1764091800@freundeskreis-fuer-archaeologie.de
SUMMARY:Treffen FAN-Fundarbeitsgruppe
DESCRIPTION:Das nächste Treffen findet am Dienstag\, den 25. November\, um 13:00 Uhr im NLD statt. Bei Interesse bitte unter utz.boehner@nld.niedersachsen.de Bescheid geben.
URL:https://freundeskreis-fuer-archaeologie.de/event/treffen-fan-fundarbeitsgruppe/
END:VEVENT
END:VCALENDAR