BEGIN:VCALENDAR
VERSION:2.0
PRODID:-//F.A.N. - ECPv6.15.20//NONSGML v1.0//EN
CALSCALE:GREGORIAN
METHOD:PUBLISH
X-WR-CALNAME:F.A.N.
X-ORIGINAL-URL:https://freundeskreis-fuer-archaeologie.de
X-WR-CALDESC:Veranstaltungen für F.A.N.
REFRESH-INTERVAL;VALUE=DURATION:PT1H
X-Robots-Tag:noindex
X-PUBLISHED-TTL:PT1H
BEGIN:VTIMEZONE
TZID:Europe/Paris
BEGIN:DAYLIGHT
TZOFFSETFROM:+0100
TZOFFSETTO:+0200
TZNAME:CEST
DTSTART:20240331T010000
END:DAYLIGHT
BEGIN:STANDARD
TZOFFSETFROM:+0200
TZOFFSETTO:+0100
TZNAME:CET
DTSTART:20241027T010000
END:STANDARD
BEGIN:DAYLIGHT
TZOFFSETFROM:+0100
TZOFFSETTO:+0200
TZNAME:CEST
DTSTART:20250330T010000
END:DAYLIGHT
BEGIN:STANDARD
TZOFFSETFROM:+0200
TZOFFSETTO:+0100
TZNAME:CET
DTSTART:20251026T010000
END:STANDARD
BEGIN:DAYLIGHT
TZOFFSETFROM:+0100
TZOFFSETTO:+0200
TZNAME:CEST
DTSTART:20260329T010000
END:DAYLIGHT
BEGIN:STANDARD
TZOFFSETFROM:+0200
TZOFFSETTO:+0100
TZNAME:CET
DTSTART:20261025T010000
END:STANDARD
END:VTIMEZONE
BEGIN:VEVENT
DTSTART;VALUE=DATE:20250914
DTEND;VALUE=DATE:20250915
DTSTAMP:20260422T030615
CREATED:20250703T144139Z
LAST-MODIFIED:20250703T144139Z
UID:2214-1757808000-1757894399@freundeskreis-fuer-archaeologie.de
SUMMARY:Römer-Exkursion nach Mühlhausen / Oberdorla
DESCRIPTION:Details zur Exkursion finden Sie hier
URL:https://freundeskreis-fuer-archaeologie.de/event/roemer-exkursion-nach-muehlhausen-oberdorla/
END:VEVENT
END:VCALENDAR